Workbook

Sheet Normal_Dashboard
B30: NOTE THE VARIED Y-AXIS SCALES PER USER

Sheet Users Power Panel
B2: User Name | C2: Normal Max Power (kW) from 12A-12A | D2: Normal Power Distribution (% Max Total Grid)
B3: ='PASTE_Power Data'!$C$1 -> User1 | C3: =MAX('PASTE_Power Data'!$C$2:$C$97) -> 1000 | D3: =(C3/C$13)*100 -> 10
B4: ='PASTE_Power Data'!$D$1 -> User 2 | C4: =MAX('PASTE_Power Data'!$D$2:$D$97) -> 1000 | D4: =(C4/C$13)*100 -> 10
B5: ='PASTE_Power Data'!$E$1 -> User 3 | C5: =MAX('PASTE_Power Data'!E$2:E$97) -> 1000 | D5: =(C5/C$13)*100 -> 10
B6: ='PASTE_Power Data'!$F$1 -> User 4 | C6: =MAX('PASTE_Power Data'!F$2:F$97) -> 1000 | D6: =(C6/C$13)*100 -> 10
B7: ='PASTE_Power Data'!$G$1 -> User 5 | C7: =MAX('PASTE_Power Data'!G$2:G$97) -> 1000 | D7: =(C7/C$13)*100 -> 10
B8: ='PASTE_Power Data'!$H$1 -> User 6 | C8: =MAX('PASTE_Power Data'!H$2:H$97) -> 1000 | D8: =(C8/C$13)*100 -> 10
B9: ='PASTE_Power Data'!$I$1 -> User 7 | C9: =MAX('PASTE_Power Data'!I$2:I$97) -> 1000 | D9: =(C9/C$13)*100 -> 10
B10: ='PASTE_Power Data'!$J$1 -> User 8 | C10: =MAX('PASTE_Power Data'!J$2:J$97) -> 1000 | D10: =(C10/C$13)*100 -> 10
B11: ='PASTE_Power Data'!$K$1 -> User 9 | C11: =MAX('PASTE_Power Data'!K$2:K$97) -> 1000 | D11: =(C11/C$13)*100 -> 10
B12: ='PASTE_Power Data'!$L$1 -> User 10 | C12: =MAX('PASTE_Power Data'!L$2:L$97) -> 1000 | D12: =(C12/C$13)*100 -> 10
B13: Total Grid | C13: =SUM(C3:C12) -> 10000 | D13: =SUM(D3:D12) -> 100
B15: MAX OUTAGE POWER (kW) 60% Total Grid Normal Max Power | C15: =C13*0.6 -> 6000
B17: INSTRUCTIONS: Enter a percentage of the Outage Max Power into the cell for each user within the four yellow columns.
B18: YOUR TASK IS TO DISTRIBUTE 100% OF THE MAX OUTAGE POWER (CELL C15) AMONG ALL USERS DURING EACH QUARTER PHASE OF THE DAY
A19: 12:00 AM - 5:59 AM - Adjustment | F19: 6:00 AM - 11:59 AM - Adjustment
A20: User | B20: Outage Power Distribution (% Max) | C20: Distributed Power (kW) | D20: Normal Max Power Demand (kW) from 12A-6A | E20: Power Allocation Difference (kW) from 12A-6A | F20: User | G20: Outage Power Distribution (% Max) | H20: Distributed Power (kW) | I20: Normal Max Power Demand (kW) from 12A-6A | J20: Power Allocation Difference (kW) from 12A-6A
A21: ='PASTE_Power Data'!$C$1 -> User1 | B21: 10 | C21: =(C$15*(B21/100)) -> 600 | D21: =MAX('PASTE_Power Data'!$C$2:$C$25) -> 1000 | E21: =C21-D21 -> -400 | F21: ='PASTE_Power Data'!$C$1 -> User1 | G21: 10 | H21: =($C$15*(G21/100)) -> 600 | I21: =MAX('PASTE_Power Data'!$C$26:$C$49) -> 1000 | J21: =H21-I21 -> -400
A22: ='PASTE_Power Data'!$D$1 -> User 2 | B22: 10 | C22: =(C$15*(B22/100)) -> 600 | D22: =MAX('PASTE_Power Data'!$D$2:$D$25) -> 1000 | E22: =C22-D22 -> -400 | F22: ='PASTE_Power Data'!$D$1 -> User 2 | G22: 10 | H22: =($C$15*(G22/100)) -> 600 | I22: =MAX('PASTE_Power Data'!$D$26:$D$49) -> 1000 | J22: =H22-I22 -> -400
A23: ='PASTE_Power Data'!$E$1 -> User 3 | B23: 10 | C23: =(C$15*(B23/100)) -> 600 | D23: =MAX('PASTE_Power Data'!$E$2:$E$25) -> 1000 | E23: =C23-D23 -> -400 | F23: ='PASTE_Power Data'!$E$1 -> User 3 | G23: 10 | H23: =($C$15*(G23/100)) -> 600 | I23: =MAX('PASTE_Power Data'!$E$26:$E$49) -> 1000 | J23: =H23-I23 -> -400
A24: ='PASTE_Power Data'!$F$1 -> User 4 | B24: 10 | C24: =(C$15*(B24/100)) -> 600 | D24: =MAX('PASTE_Power Data'!$F$2:$F$25) -> 1000 | E24: =C24-D24 -> -400 | F24: ='PASTE_Power Data'!$F$1 -> User 4 | G24: 10 | H24: =($C$15*(G24/100)) -> 600 | I24: =MAX('PASTE_Power Data'!$F$26:$F$49) -> 1000 | J24: =H24-I24 -> -400
A25: ='PASTE_Power Data'!$G$1 -> User 5 | B25: 10 | C25: =(C$15*(B25/100)) -> 600 | D25: =MAX('PASTE_Power Data'!$G$2:$G$25) -> 1000 | E25: =C25-D25 -> -400 | F25: ='PASTE_Power Data'!$G$1 -> User 5 | G25: 10 | H25: =($C$15*(G25/100)) -> 600 | I25: =MAX('PASTE_Power Data'!$G$26:$G$49) -> 1000 | J25: =H25-I25 -> -400
A26: ='PASTE_Power Data'!$H$1 -> User 6 | B26: 10 | C26: =(C$15*(B26/100)) -> 600 | D26: =MAX('PASTE_Power Data'!$H$2:$H$25) -> 1000 | E26: =C26-D26 -> -400 | F26: ='PASTE_Power Data'!$H$1 -> User 6 | G26: 10 | H26: =($C$15*(G26/100)) -> 600 | I26: =MAX('PASTE_Power Data'!$H$26:$H$49) -> 1000 | J26: =H26-I26 -> -400
A27: ='PASTE_Power Data'!$I$1 -> User 7 | B27: 10 | C27: =(C$15*(B27/100)) -> 600 | D27: =MAX('PASTE_Power Data'!$I$2:$I$25) -> 1000 | E27: =C27-D27 -> -400 | F27: ='PASTE_Power Data'!$I$1 -> User 7 | G27: 10 | H27: =($C$15*(G27/100)) -> 600 | I27: =MAX('PASTE_Power Data'!$I$26:$I$49) -> 1000 | J27: =H27-I27 -> -400
A28: ='PASTE_Power Data'!$J$1 -> User 8 | B28: 10 | C28: =(C$15*(B28/100)) -> 600 | D28: =MAX('PASTE_Power Data'!$J$2:$J$25) -> 1000 | E28: =C28-D28 -> -400 | F28: ='PASTE_Power Data'!$J$1 -> User 8 | G28: 10 | H28: =($C$15*(G28/100)) -> 600 | I28: =MAX('PASTE_Power Data'!$J$26:$J$49) -> 1000 | J28: =H28-I28 -> -400
A29: ='PASTE_Power Data'!$K$1 -> User 9 | B29: 10 | C29: =(C$15*(B29/100)) -> 600 | D29: =MAX('PASTE_Power Data'!$K$2:$K$25) -> 1000 | E29: =C29-D29 -> -400 | F29: ='PASTE_Power Data'!$K$1 -> User 9 | G29: 10 | H29: =($C$15*(G29/100)) -> 600 | I29: =MAX('PASTE_Power Data'!$K$26:$K$49) -> 1000 | J29: =H29-I29 -> -400
A30: ='PASTE_Power Data'!$L$1 -> User 10 | B30: 10 | C30: =(C$15*(B30/100)) -> 600 | D30: =MAX('PASTE_Power Data'!$L$2:$L$25) -> 1000 | E30: =C30-D30 -> -400 | F30: ='PASTE_Power Data'!$L$1 -> User 10 | G30: 10 | H30: =($C$15*(G30/100)) -> 600 | I30: =MAX('PASTE_Power Data'!$L$26:$L$49) -> 1000 | J30: =H30-I30 -> -400
B31: =SUM(B21:B30) -> 100 | C31: =SUM(C21:C30) -> 6000 | G31: =SUM(G21:G30) -> 100 | H31: =SUM(H21:H30) -> 6000
A33: 12:00 PM - 5:59 PM - Adjustment | F33: 6:00 PM - 11:59 PM - Adjustment
A34: User | B34: Outage Power Distribution (% Max) | C34: Distributed Power (kW) | D34: Normal Max Power Demand (kW) from 12A-6A | E34: Power Allocation Difference (kW) from 12A-6A | F34: User | G34: Outage Power Distribution (% Max) | H34: Distributed Power (kW) | I34: Normal Max Power Demand (kW) from 12A-6A | J34: Power Allocation Difference (kW) from 12A-6A
A35: ='PASTE_Power Data'!$C$1 -> User1 | B35: 10 | C35: =($C$15*(B35/100)) -> 600 | D35: =MAX('PASTE_Power Data'!C$50:C$73) -> 1000 | E35: =C35-D35 -> -400 | F35: ='PASTE_Power Data'!$C$1 -> User1 | G35: 10 | H35: =($C$15*(G35/100)) -> 600 | I35: =MAX('PASTE_Power Data'!$C$74:$C$97) -> 1000 | J35: =H35-I35 -> -400
A36: ='PASTE_Power Data'!$D$1 -> User 2 | B36: 10 | C36: =($C$15*(B36/100)) -> 600 | D36: =MAX('PASTE_Power Data'!D$50:D$73) -> 1000 | E36: =C36-D36 -> -400 | F36: ='PASTE_Power Data'!$D$1 -> User 2 | G36: 10 | H36: =($C$15*(G36/100)) -> 600 | I36: =MAX('PASTE_Power Data'!$D$74:$D$97) -> 1000 | J36: =H36-I36 -> -400
A37: ='PASTE_Power Data'!$E$1 -> User 3 | B37: 10 | C37: =($C$15*(B37/100)) -> 600 | D37: =MAX('PASTE_Power Data'!E$50:E$73) -> 1000 | E37: =C37-D37 -> -400 | F37: ='PASTE_Power Data'!$E$1 -> User 3 | G37: 10 | H37: =($C$15*(G37/100)) -> 600 | I37: =MAX('PASTE_Power Data'!$E$74:$E$97) -> 1000 | J37: =H37-I37 -> -400
A38: ='PASTE_Power Data'!$F$1 -> User 4 | B38: 10 | C38: =($C$15*(B38/100)) -> 600 | D38: =MAX('PASTE_Power Data'!F$50:F$73) -> 1000 | E38: =C38-D38 -> -400 | F38: ='PASTE_Power Data'!$F$1 -> User 4 | G38: 10 | H38: =($C$15*(G38/100)) -> 600 | I38: =MAX('PASTE_Power Data'!$F$74:$F$97) -> 1000 | J38: =H38-I38 -> -400
A39: ='PASTE_Power Data'!$G$1 -> User 5 | B39: 10 | C39: =($C$15*(B39/100)) -> 600 | D39: =MAX('PASTE_Power Data'!G$50:G$73) -> 1000 | E39: =C39-D39 -> -400 | F39: ='PASTE_Power Data'!$G$1 -> User 5 | G39: 10 | H39: =($C$15*(G39/100)) -> 600 | I39: =MAX('PASTE_Power Data'!$G$74:$G$97) -> 1000 | J39: =H39-I39 -> -400
A40: ='PASTE_Power Data'!$H$1 -> User 6 | B40: 10 | C40: =($C$15*(B40/100)) -> 600 | D40: =MAX('PASTE_Power Data'!H$50:H$73) -> 1000 | E40: =C40-D40 -> -400 | F40: ='PASTE_Power Data'!$H$1 -> User 6 | G40: 10 | H40: =($C$15*(G40/100)) -> 600 | I40: =MAX('PASTE_Power Data'!$H$74:$H$97) -> 1000 | J40: =H40-I40 -> -400
A41: ='PASTE_Power Data'!$I$1 -> User 7 | B41: 10 | C41: =($C$15*(B41/100)) -> 600 | D41: =MAX('PASTE_Power Data'!I$50:I$73) -> 1000 | E41: =C41-D41 -> -400 | F41: ='PASTE_Power Data'!$I$1 -> User 7 | G41: 10 | H41: =($C$15*(G41/100)) -> 600 | I41: =MAX('PASTE_Power Data'!$I$74:$I$97) -> 1000 | J41: =H41-I41 -> -400
A42: ='PASTE_Power Data'!$J$1 -> User 8 | B42: 10 | C42: =($C$15*(B42/100)) -> 600 | D42: =MAX('PASTE_Power Data'!J$50:J$73) -> 1000 | E42: =C42-D42 -> -400 | F42: ='PASTE_Power Data'!$J$1 -> User 8 | G42: 10 | H42: =($C$15*(G42/100)) -> 600 | I42: =MAX('PASTE_Power Data'!$J$74:$J$97) -> 1000 | J42: =H42-I42 -> -400
A43: ='PASTE_Power Data'!$K$1 -> User 9 | B43: 10 | C43: =($C$15*(B43/100)) -> 600 | D43: =MAX('PASTE_Power Data'!$K$50:K$73) -> 1000 | E43: =C43-D43 -> -400 | F43: ='PASTE_Power Data'!$K$1 -> User 9 | G43: 10 | H43: =($C$15*(G43/100)) -> 600 | I43: =MAX('PASTE_Power Data'!$K$74:$K$97) -> 1000 | J43: =H43-I43 -> -400
A44: ='PASTE_Power Data'!$L$1 -> User 10 | B44: 10 | C44: =($C$15*(B44/100)) -> 600 | D44: =MAX('PASTE_Power Data'!$L$50:L$73) -> 1000 | E44: =C44-D44 -> -400 | F44: ='PASTE_Power Data'!$L$1 -> User 10 | G44: 10 | H44: =($C$15*(G44/100)) -> 600 | I44: =MAX('PASTE_Power Data'!$L$74:$L$97) -> 1000 | J44: =H44-I44 -> -400
...

Sheet Outage_Dashboard_Instant
B30: NOTE THE VARIED Y-AXIS SCALES PER USER

Sheet Outage_Dashboard_Thresholds
B30: NOTE THE VARIED Y-AXIS SCALES PER USER

Sheet PASTE_Power Data
A1: PASTE IN CELL C1 ->> | B1: time | C1: User1 | D1: User 2 | E1: User 3 | F1: User 4 | G1: User 5 | H1: User 6 | I1: User 7 | J1: User 8 | K1: User 9 | L1: User 10 | M1: Total Grid
B2: 0.010416667 | C2: 1000 | D2: 1000 | E2: 1000 | F2: 1000 | G2: 1000 | H2: 1000 | I2: 1000 | J2: 1000 | K2: 1000 | L2: 1000 | M2: 10000
B3: 0.020833333 | C3: 1000 | D3: 1000 | E3: 1000 | F3: 1000 | G3: 1000 | H3: 1000 | I3: 1000 | J3: 1000 | K3: 1000 | L3: 1000 | M3: 10000
A4: INSTRUCTIONS: PASTE THE DATA FOR YOUR 10 USERS AND TOTAL GRID OVER THE GREY AREA. THIS SHOULD FILL IN ROWS 1 (HEADER) to 97 (LAST DATA POINT) COLUMNS C to M | B4: 0.03125 | C4: 1000 | D4: 1000 | E4: 1000 | F4: 1000 | G4: 1000 | H4: 1000 | I4: 1000 | J4: 1000 | K4: 1000 | L4: 1000 | M4: 10000
B5: 0.041666667 | C5: 1000 | D5: 1000 | E5: 1000 | F5: 1000 | G5: 1000 | H5: 1000 | I5: 1000 | J5: 1000 | K5: 1000 | L5: 1000 | M5: 10000
B6: 0.052083333 | C6: 1000 | D6: 1000 | E6: 1000 | F6: 1000 | G6: 1000 | H6: 1000 | I6: 1000 | J6: 1000 | K6: 1000 | L6: 1000 | M6: 10000
B7: 0.0625 | C7: 1000 | D7: 1000 | E7: 1000 | F7: 1000 | G7: 1000 | H7: 1000 | I7: 1000 | J7: 1000 | K7: 1000 | L7: 1000 | M7: 10000
B8: 0.072916667 | C8: 1000 | D8: 1000 | E8: 1000 | F8: 1000 | G8: 1000 | H8: 1000 | I8: 1000 | J8: 1000 | K8: 1000 | L8: 1000 | M8: 10000
B9: 0.083333333 | C9: 1000 | D9: 1000 | E9: 1000 | F9: 1000 | G9: 1000 | H9: 1000 | I9: 1000 | J9: 1000 | K9: 1000 | L9: 1000 | M9: 10000
B10: 0.09375 | C10: 1000 | D10: 1000 | E10: 1000 | F10: 1000 | G10: 1000 | H10: 1000 | I10: 1000 | J10: 1000 | K10: 1000 | L10: 1000 | M10: 10000
B11: 0.10416667 | C11: 1000 | D11: 1000 | E11: 1000 | F11: 1000 | G11: 1000 | H11: 1000 | I11: 1000 | J11: 1000 | K11: 1000 | L11: 1000 | M11: 10000
B12: 0.11458333 | C12: 1000 | D12: 1000 | E12: 1000 | F12: 1000 | G12: 1000 | H12: 1000 | I12: 1000 | J12: 1000 | K12: 1000 | L12: 1000 | M12: 10000
B13: 0.125 | C13: 1000 | D13: 1000 | E13: 1000 | F13: 1000 | G13: 1000 | H13: 1000 | I13: 1000 | J13: 1000 | K13: 1000 | L13: 1000 | M13: 10000
B14: 0.13541667 | C14: 1000 | D14: 1000 | E14: 1000 | F14: 1000 | G14: 1000 | H14: 1000 | I14: 1000 | J14: 1000 | K14: 1000 | L14: 1000 | M14: 10000
B15: 0.14583333 | C15: 1000 | D15: 1000 | E15: 1000 | F15: 1000 | G15: 1000 | H15: 1000 | I15: 1000 | J15: 1000 | K15: 1000 | L15: 1000 | M15: 10000
B16: 0.15625 | C16: 1000 | D16: 1000 | E16: 1000 | F16: 1000 | G16: 1000 | H16: 1000 | I16: 1000 | J16: 1000 | K16: 1000 | L16: 1000 | M16: 10000
A17: **Note: It will be helpful to change the header names (ROW 1) to number your users. | B17: 0.16666667 | C17: 1000 | D17: 1000 | E17: 1000 | F17: 1000 | G17: 1000 | H17: 1000 | I17: 1000 | J17: 1000 | K17: 1000 | L17: 1000 | M17: 10000
B18: 0.17708333 | C18: 1000 | D18: 1000 | E18: 1000 | F18: 1000 | G18: 1000 | H18: 1000 | I18: 1000 | J18: 1000 | K18: 1000 | L18: 1000 | M18: 10000
B19: 0.1875 | C19: 1000 | D19: 1000 | E19: 1000 | F19: 1000 | G19: 1000 | H19: 1000 | I19: 1000 | J19: 1000 | K19: 1000 | L19: 1000 | M19: 10000
B20: 0.19791667 | C20: 1000 | D20: 1000 | E20: 1000 | F20: 1000 | G20: 1000 | H20: 1000 | I20: 1000 | J20: 1000 | K20: 1000 | L20: 1000 | M20: 10000
B21: 0.20833333 | C21: 1000 | D21: 1000 | E21: 1000 | F21: 1000 | G21: 1000 | H21: 1000 | I21: 1000 | J21: 1000 | K21: 1000 | L21: 1000 | M21: 10000
B22: 0.21875 | C22: 1000 | D22: 1000 | E22: 1000 | F22: 1000 | G22: 1000 | H22: 1000 | I22: 1000 | J22: 1000 | K22: 1000 | L22: 1000 | M22: 10000
B23: 0.22916667 | C23: 1000 | D23: 1000 | E23: 1000 | F23: 1000 | G23: 1000 | H23: 1000 | I23: 1000 | J23: 1000 | K23: 1000 | L23: 1000 | M23: 10000
B24: 0.23958333 | C24: 1000 | D24: 1000 | E24: 1000 | F24: 1000 | G24: 1000 | H24: 1000 | I24: 1000 | J24: 1000 | K24: 1000 | L24: 1000 | M24: 10000
B25: 0.25 | C25: 1000 | D25: 1000 | E25: 1000 | F25: 1000 | G25: 1000 | H25: 1000 | I25: 1000 | J25: 1000 | K25: 1000 | L25: 1000 | M25: 10000
B26: 0.26041667 | C26: 1000 | D26: 1000 | E26: 1000 | F26: 1000 | G26: 1000 | H26: 1000 | I26: 1000 | J26: 1000 | K26: 1000 | L26: 1000 | M26: 10000
B27: 0.27083333 | C27: 1000 | D27: 1000 | E27: 1000 | F27: 1000 | G27: 1000 | H27: 1000 | I27: 1000 | J27: 1000 | K27: 1000 | L27: 1000 | M27: 10000
B28: 0.28125 | C28: 1000 | D28: 1000 | E28: 1000 | F28: 1000 | G28: 1000 | H28: 1000 | I28: 1000 | J28: 1000 | K28: 1000 | L28: 1000 | M28: 10000
B29: 0.29166667 | C29: 1000 | D29: 1000 | E29: 1000 | F29: 1000 | G29: 1000 | H29: 1000 | I29: 1000 | J29: 1000 | K29: 1000 | L29: 1000 | M29: 10000
... B97: 1 | C97: 1000 | D97: 1000 | E97: 1000 | F97: 1000 | G97: 1000 | H97: 1000 | I97: 1000 | J97: 1000 | K97: 1000 | L97: 1000 | M97: 10000

Sheet DO NOT ALTER_Data_Transform 
B1: time | C1: ='PASTE_Power Data'!C1 -> User1 | D1: ='PASTE_Power Data'!D1 -> User 2 | E1: ='PASTE_Power Data'!E1 -> User 3 | F1: ='PASTE_Power Data'!F1 -> User 4 | G1: ='PASTE_Power Data'!G1 -> User 5 | H1: ='PASTE_Power Data'!H1 -> User 6 | I1: ='PASTE_Power Data'!I1 -> User 7 | J1: ='PASTE_Power Data'!J1 -> User 8 | ... L1: ='PASTE_Power Data'!L1 -> User 10 | M1: PERCENT MAX DISASTER POWER USAGE | O1: DO NOT ALTER | Q1: time | R1: User 1 Dist Power | S1: User 2 Dist Power | T1: User 3 Dist Power | U1: User 4 Dist Power | V1: User 5 Dist Power | W1: User 6 Dist Power | X1: User 7 Dist Power | Y1: User 8 Dist Power | Z1: User 9 DIST POWER | AA1: User 10 Dist Power
B2: 0.010416667 | C2: =MIN('Users Power Panel'!$C$21, 'PASTE_Power Data'!C2) -> 600 | D2: =MIN('Users Power Panel'!$C$22, 'PASTE_Power Data'!D2) -> 600 | E2: =MIN('Users Power Panel'!$C$23, 'PASTE_Power Data'!E2) -> 600 | F2: =MIN('Users Power Panel'!$C$24, 'PASTE_Power Data'!F2) -> 600 | G2: =MIN('Users Power Panel'!$C$25, 'PASTE_Power Data'!G2) -> 600 | H2: =MIN('Users Power Panel'!$C$26, 'PASTE_Power Data'!H2) -> 600 | I2: =MIN('Users Power Panel'!$C$27, 'PASTE_Power Data'!I2) -> 600 | J2: =MIN('Users Power Panel'!$C$28, 'PASTE_Power Data'!J2) -> 600 | K2: =MIN('Users Power Panel'!$C$29, 'PASTE_Power Data'!K2) -> 600 | L2: =MIN('Users Power Panel'!$C$30, 'PASTE_Power Data'!L2) -> 600 | M2: =(SUM(C2:L2)/'Users Power Panel'!$C$15)*100 -> 100 | Q2: 0.010416667 | R2: ='Users Power Panel'!$C$21 -> 600 | S2: ='Users Power Panel'!$C$22 -> 600 | T2: ='Users Power Panel'!$C$23 -> 600 | U2: ='Users Power Panel'!$C$24 -> 600 | V2: ='Users Power Panel'!$C$25 -> 600 | W2: ='Users Power Panel'!$C$26 -> 600 | X2: ='Users Power Panel'!$C$27 -> 600 | Y2: ='Users Power Panel'!$C$28 -> 600 | Z2: ='Users Power Panel'!$C$29 -> 600 | AA2: ='Users Power Panel'!$C$30 -> 600
B3: 0.020833333 | C3: =MIN('Users Power Panel'!$C$21, 'PASTE_Power Data'!C3) -> 600 | D3: =MIN('Users Power Panel'!$C$22, 'PASTE_Power Data'!D3) -> 600 | E3: =MIN('Users Power Panel'!$C$23, 'PASTE_Power Data'!E3) -> 600 | F3: =MIN('Users Power Panel'!$C$24, 'PASTE_Power Data'!F3) -> 600 | G3: =MIN('Users Power Panel'!$C$25, 'PASTE_Power Data'!G3) -> 600 | H3: =MIN('Users Power Panel'!$C$26, 'PASTE_Power Data'!H3) -> 600 | I3: =MIN('Users Power Panel'!$C$27, 'PASTE_Power Data'!I3) -> 600 | J3: =MIN('Users Power Panel'!$C$28, 'PASTE_Power Data'!J3) -> 600 | K3: =MIN('Users Power Panel'!$C$29, 'PASTE_Power Data'!K3) -> 600 | L3: =MIN('Users Power Panel'!$C$30, 'PASTE_Power Data'!L3) -> 600 | M3: =(SUM(C3:L3)/'Users Power Panel'!$C$15)*100 -> 100 | Q3: 0.020833333 | R3: ='Users Power Panel'!$C$21 -> 600 | S3: ='Users Power Panel'!$C$22 -> 600 | T3: ='Users Power Panel'!$C$23 -> 600 | U3: ='Users Power Panel'!$C$24 -> 600 | V3: ='Users Power Panel'!$C$25 -> 600 | W3: ='Users Power Panel'!$C$26 -> 600 | X3: ='Users Power Panel'!$C$27 -> 600 | Y3: ='Users Power Panel'!$C$28 -> 600 | Z3: ='Users Power Panel'!$C$29 -> 600 | AA3: ='Users Power Panel'!$C$30 -> 600
B4: 0.03125 | C4: =MIN('Users Power Panel'!$C$21, 'PASTE_Power Data'!C4) -> 600 | D4: =MIN('Users Power Panel'!$C$22, 'PASTE_Power Data'!D4) -> 600 | E4: =MIN('Users Power Panel'!$C$23, 'PASTE_Power Data'!E4) -> 600 | F4: =MIN('Users Power Panel'!$C$24, 'PASTE_Power Data'!F4) -> 600 | G4: =MIN('Users Power Panel'!$C$25, 'PASTE_Power Data'!G4) -> 600 | H4: =MIN('Users Power Panel'!$C$26, 'PASTE_Power Data'!H4) -> 600 | I4: =MIN('Users Power Panel'!$C$27, 'PASTE_Power Data'!I4) -> 600 | J4: =MIN('Users Power Panel'!$C$28, 'PASTE_Power Data'!J4) -> 600 | K4: =MIN('Users Power Panel'!$C$29, 'PASTE_Power Data'!K4) -> 600 | L4: =MIN('Users Power Panel'!$C$30, 'PASTE_Power Data'!L4) -> 600 | M4: =(SUM(C4:L4)/'Users Power Panel'!$C$15)*100 -> 100 | Q4: 0.03125 | R4: ='Users Power Panel'!$C$21 -> 600 | S4: ='Users Power Panel'!$C$22 -> 600 | T4: ='Users Power Panel'!$C$23 -> 600 | U4: ='Users Power Panel'!$C$24 -> 600 | V4: ='Users Power Panel'!$C$25 -> 600 | W4: ='Users Power Panel'!$C$26 -> 600 | X4: ='Users Power Panel'!$C$27 -> 600 | Y4: ='Users Power Panel'!$C$28 -> 600 | Z4: ='Users Power Panel'!$C$29 -> 600 | AA4: ='Users Power Panel'!$C$30 -> 600
B5: 0.041666667 | C5: =MIN('Users Power Panel'!$C$21, 'PASTE_Power Data'!C5) -> 600 | D5: =MIN('Users Power Panel'!$C$22, 'PASTE_Power Data'!D5) -> 600 | E5: =MIN('Users Power Panel'!$C$23, 'PASTE_Power Data'!E5) -> 600 | F5: =MIN('Users Power Panel'!$C$24, 'PASTE_Power Data'!F5) -> 600 | G5: =MIN('Users Power Panel'!$C$25, 'PASTE_Power Data'!G5) -> 600 | H5: =MIN('Users Power Panel'!$C$26, 'PASTE_Power Data'!H5) -> 600 | I5: =MIN('Users Power Panel'!$C$27, 'PASTE_Power Data'!I5) -> 600 | J5: =MIN('Users Power Panel'!$C$28, 'PASTE_Power Data'!J5) -> 600 | K5: =MIN('Users Power Panel'!$C$29, 'PASTE_Power Data'!K5) -> 600 | L5: =MIN('Users Power Panel'!$C$30, 'PASTE_Power Data'!L5) -> 600 | M5: =(SUM(C5:L5)/'Users Power Panel'!$C$15)*100 -> 100 | Q5: 0.041666667 | R5: ='Users Power Panel'!$C$21 -> 600 | S5: ='Users Power Panel'!$C$22 -> 600 | T5: ='Users Power Panel'!$C$23 -> 600 | U5: ='Users Power Panel'!$C$24 -> 600 | V5: ='Users Power Panel'!$C$25 -> 600 | W5: ='Users Power Panel'!$C$26 -> 600 | X5: ='Users Power Panel'!$C$27 -> 600 | Y5: ='Users Power Panel'!$C$28 -> 600 | Z5: ='Users Power Panel'!$C$29 -> 600 | AA5: ='Users Power Panel'!$C$30 -> 600
B6: 0.052083333 | C6: =MIN('Users Power Panel'!$C$21, 'PASTE_Power Data'!C6) -> 600 | D6: =MIN('Users Power Panel'!$C$22, 'PASTE_Power Data'!D6) -> 600 | E6: =MIN('Users Power Panel'!$C$23, 'PASTE_Power Data'!E6) -> 600 | F6: =MIN('Users Power Panel'!$C$24, 'PASTE_Power Data'!F6) -> 600 | G6: =MIN('Users Power Panel'!$C$25, 'PASTE_Power Data'!G6) -> 600 | H6: =MIN('Users Power Panel'!$C$26, 'PASTE_Power Data'!H6) -> 600 | I6: =MIN('Users Power Panel'!$C$27, 'PASTE_Power Data'!I6) -> 600 | J6: =MIN('Users Power Panel'!$C$28, 'PASTE_Power Data'!J6) -> 600 | K6: =MIN('Users Power Panel'!$C$29, 'PASTE_Power Data'!K6) -> 600 | L6: =MIN('Users Power Panel'!$C$30, 'PASTE_Power Data'!L6) -> 600 | M6: =(SUM(C6:L6)/'Users Power Panel'!$C$15)*100 -> 100 | Q6: 0.052083333 | R6: ='Users Power Panel'!$C$21 -> 600 | S6: ='Users Power Panel'!$C$22 -> 600 | T6: ='Users Power Panel'!$C$23 -> 600 | U6: ='Users Power Panel'!$C$24 -> 600 | V6: ='Users Power Panel'!$C$25 -> 600 | W6: ='Users Power Panel'!$C$26 -> 600 | X6: ='Users Power Panel'!$C$27 -> 600 | Y6: ='Users Power Panel'!$C$28 -> 600 | Z6: ='Users Power Panel'!$C$29 -> 600 | AA6: ='Users Power Panel'!$C$30 -> 600
B7: 0.0625 | C7: =MIN('Users Power Panel'!$C$21, 'PASTE_Power Data'!C7) -> 600 | D7: =MIN('Users Power Panel'!$C$22, 'PASTE_Power Data'!D7) -> 600 | E7: =MIN('Users Power Panel'!$C$23, 'PASTE_Power Data'!E7) -> 600 | F7: =MIN('Users Power Panel'!$C$24, 'PASTE_Power Data'!F7) -> 600 | G7: =MIN('Users Power Panel'!$C$25, 'PASTE_Power Data'!G7) -> 600 | H7: =MIN('Users Power Panel'!$C$26, 'PASTE_Power Data'!H7) -> 600 | I7: =MIN('Users Power Panel'!$C$27, 'PASTE_Power Data'!I7) -> 600 | J7: =MIN('Users Power Panel'!$C$28, 'PASTE_Power Data'!J7) -> 600 | K7: =MIN('Users Power Panel'!$C$29, 'PASTE_Power Data'!K7) -> 600 | L7: =MIN('Users Power Panel'!$C$30, 'PASTE_Power Data'!L7) -> 600 | M7: =(SUM(C7:L7)/'Users Power Panel'!$C$15)*100 -> 100 | Q7: 0.0625 | R7: ='Users Power Panel'!$C$21 -> 600 | S7: ='Users Power Panel'!$C$22 -> 600 | T7: ='Users Power Panel'!$C$23 -> 600 | U7: ='Users Power Panel'!$C$24 -> 600 | V7: ='Users Power Panel'!$C$25 -> 600 | W7: ='Users Power Panel'!$C$26 -> 600 | X7: ='Users Power Panel'!$C$27 -> 600 | Y7: ='Users Power Panel'!$C$28 -> 600 | Z7: ='Users Power Panel'!$C$29 -> 600 | AA7: ='Users Power Panel'!$C$30 -> 600
B8: 0.072916667 | C8: =MIN('Users Power Panel'!$C$21, 'PASTE_Power Data'!C8) -> 600 | D8: =MIN('Users Power Panel'!$C$22, 'PASTE_Power Data'!D8) -> 600 | E8: =MIN('Users Power Panel'!$C$23, 'PASTE_Power Data'!E8) -> 600 | F8: =MIN('Users Power Panel'!$C$24, 'PASTE_Power Data'!F8) -> 600 | G8: =MIN('Users Power Panel'!$C$25, 'PASTE_Power Data'!G8) -> 600 | H8: =MIN('Users Power Panel'!$C$26, 'PASTE_Power Data'!H8) -> 600 | I8: =MIN('Users Power Panel'!$C$27, 'PASTE_Power Data'!I8) -> 600 | J8: =MIN('Users Power Panel'!$C$28, 'PASTE_Power Data'!J8) -> 600 | K8: =MIN('Users Power Panel'!$C$29, 'PASTE_Power Data'!K8) -> 600 | L8: =MIN('Users Power Panel'!$C$30, 'PASTE_Power Data'!L8) -> 600 | M8: =(SUM(C8:L8)/'Users Power Panel'!$C$15)*100 -> 100 | Q8: 0.072916667 | R8: ='Users Power Panel'!$C$21 -> 600 | S8: ='Users Power Panel'!$C$22 -> 600 | T8: ='Users Power Panel'!$C$23 -> 600 | U8: ='Users Power Panel'!$C$24 -> 600 | V8: ='Users Power Panel'!$C$25 -> 600 | W8: ='Users Power Panel'!$C$26 -> 600 | X8: ='Users Power Panel'!$C$27 -> 600 | Y8: ='Users Power Panel'!$C$28 -> 600 | Z8: ='Users Power Panel'!$C$29 -> 600 | AA8: ='Users Power Panel'!$C$30 -> 600
B9: 0.083333333 | C9: =MIN('Users Power Panel'!$C$21, 'PASTE_Power Data'!C9) -> 600 | D9: =MIN('Users Power Panel'!$C$22, 'PASTE_Power Data'!D9) -> 600 | E9: =MIN('Users Power Panel'!$C$23, 'PASTE_Power Data'!E9) -> 600 | F9: =MIN('Users Power Panel'!$C$24, 'PASTE_Power Data'!F9) -> 600 | G9: =MIN('Users Power Panel'!$C$25, 'PASTE_Power Data'!G9) -> 600 | H9: =MIN('Users Power Panel'!$C$26, 'PASTE_Power Data'!H9) -> 600 | I9: =MIN('Users Power Panel'!$C$27, 'PASTE_Power Data'!I9) -> 600 | J9: =MIN('Users Power Panel'!$C$28, 'PASTE_Power Data'!J9) -> 600 | K9: =MIN('Users Power Panel'!$C$29, 'PASTE_Power Data'!K9) -> 600 | L9: =MIN('Users Power Panel'!$C$30, 'PASTE_Power Data'!L9) -> 600 | M9: =(SUM(C9:L9)/'Users Power Panel'!$C$15)*100 -> 100 | Q9: 0.083333333 | R9: ='Users Power Panel'!$C$21 -> 600 | S9: ='Users Power Panel'!$C$22 -> 600 | T9: ='Users Power Panel'!$C$23 -> 600 | U9: ='Users Power Panel'!$C$24 -> 600 | V9: ='Users Power Panel'!$C$25 -> 600 | W9: ='Users Power Panel'!$C$26 -> 600 | X9: ='Users Power Panel'!$C$27 -> 600 | Y9: ='Users Power Panel'!$C$28 -> 600 | Z9: ='Users Power Panel'!$C$29 -> 600 | AA9: ='Users Power Panel'!$C$30 -> 600
B10: 0.09375 | C10: =MIN('Users Power Panel'!$C$21, 'PASTE_Power Data'!C10) -> 600 | D10: =MIN('Users Power Panel'!$C$22, 'PASTE_Power Data'!D10) -> 600 | E10: =MIN('Users Power Panel'!$C$23, 'PASTE_Power Data'!E10) -> 600 | F10: =MIN('Users Power Panel'!$C$24, 'PASTE_Power Data'!F10) -> 600 | G10: =MIN('Users Power Panel'!$C$25, 'PASTE_Power Data'!G10) -> 600 | H10: =MIN('Users Power Panel'!$C$26, 'PASTE_Power Data'!H10) -> 600 | I10: =MIN('Users Power Panel'!$C$27, 'PASTE_Power Data'!I10) -> 600 | J10: =MIN('Users Power Panel'!$C$28, 'PASTE_Power Data'!J10) -> 600 | K10: =MIN('Users Power Panel'!$C$29, 'PASTE_Power Data'!K10) -> 600 | L10: =MIN('Users Power Panel'!$C$30, 'PASTE_Power Data'!L10) -> 600 | M10: =(SUM(C10:L10)/'Users Power Panel'!$C$15)*100 -> 100 | Q10: 0.09375 | R10: ='Users Power Panel'!$C$21 -> 600 | S10: ='Users Power Panel'!$C$22 -> 600 | T10: ='Users Power Panel'!$C$23 -> 600 | U10: ='Users Power Panel'!$C$24 -> 600 | V10: ='Users Power Panel'!$C$25 -> 600 | W10: ='Users Power Panel'!$C$26 -> 600 | X10: ='Users Power Panel'!$C$27 -> 600 | Y10: ='Users Power Panel'!$C$28 -> 600 | Z10: ='Users Power Panel'!$C$29 -> 600 | AA10: ='Users Power Panel'!$C$30 -> 600
B11: 0.10416667 | C11: =MIN('Users Power Panel'!$C$21, 'PASTE_Power Data'!C11) -> 600 | D11: =MIN('Users Power Panel'!$C$22, 'PASTE_Power Data'!D11) -> 600 | E11: =MIN('Users Power Panel'!$C$23, 'PASTE_Power Data'!E11) -> 600 | F11: =MIN('Users Power Panel'!$C$24, 'PASTE_Power Data'!F11) -> 600 | G11: =MIN('Users Power Panel'!$C$25, 'PASTE_Power Data'!G11) -> 600 | H11: =MIN('Users Power Panel'!$C$26, 'PASTE_Power Data'!H11) -> 600 | I11: =MIN('Users Power Panel'!$C$27, 'PASTE_Power Data'!I11) -> 600 | J11: =MIN('Users Power Panel'!$C$28, 'PASTE_Power Data'!J11) -> 600 | K11: =MIN('Users Power Panel'!$C$29, 'PASTE_Power Data'!K11) -> 600 | L11: =MIN('Users Power Panel'!$C$30, 'PASTE_Power Data'!L11) -> 600 | M11: =(SUM(C11:L11)/'Users Power Panel'!$C$15)*100 -> 100 | Q11: 0.10416667 | R11: ='Users Power Panel'!$C$21 -> 600 | S11: ='Users Power Panel'!$C$22 -> 600 | T11: ='Users Power Panel'!$C$23 -> 600 | U11: ='Users Power Panel'!$C$24 -> 600 | V11: ='Users Power Panel'!$C$25 -> 600 | W11: ='Users Power Panel'!$C$26 -> 600 | X11: ='Users Power Panel'!$C$27 -> 600 | Y11: ='Users Power Panel'!$C$28 -> 600 | Z11: ='Users Power Panel'!$C$29 -> 600 | AA11: ='Users Power Panel'!$C$30 -> 600
B12: 0.11458333 | C12: =MIN('Users Power Panel'!$C$21, 'PASTE_Power Data'!C12) -> 600 | D12: =MIN('Users Power Panel'!$C$22, 'PASTE_Power Data'!D12) -> 600 | E12: =MIN('Users Power Panel'!$C$23, 'PASTE_Power Data'!E12) -> 600 | F12: =MIN('Users Power Panel'!$C$24, 'PASTE_Power Data'!F12) -> 600 | G12: =MIN('Users Power Panel'!$C$25, 'PASTE_Power Data'!G12) -> 600 | H12: =MIN('Users Power Panel'!$C$26, 'PASTE_Power Data'!H12) -> 600 | I12: =MIN('Users Power Panel'!$C$27, 'PASTE_Power Data'!I12) -> 600 | J12: =MIN('Users Power Panel'!$C$28, 'PASTE_Power Data'!J12) -> 600 | K12: =MIN('Users Power Panel'!$C$29, 'PASTE_Power Data'!K12) -> 600 | L12: =MIN('Users Power Panel'!$C$30, 'PASTE_Power Data'!L12) -> 600 | M12: =(SUM(C12:L12)/'Users Power Panel'!$C$15)*100 -> 100 | Q12: 0.11458333 | R12: ='Users Power Panel'!$C$21 -> 600 | S12: ='Users Power Panel'!$C$22 -> 600 | T12: ='Users Power Panel'!$C$23 -> 600 | U12: ='Users Power Panel'!$C$24 -> 600 | V12: ='Users Power Panel'!$C$25 -> 600 | W12: ='Users Power Panel'!$C$26 -> 600 | X12: ='Users Power Panel'!$C$27 -> 600 | Y12: ='Users Power Panel'!$C$28 -> 600 | Z12: ='Users Power Panel'!$C$29 -> 600 | AA12: ='Users Power Panel'!$C$30 -> 600
B13: 0.125 | C13: =MIN('Users Power Panel'!$C$21, 'PASTE_Power Data'!C13) -> 600 | D13: =MIN('Users Power Panel'!$C$22, 'PASTE_Power Data'!D13) -> 600 | E13: =MIN('Users Power Panel'!$C$23, 'PASTE_Power Data'!E13) -> 600 | F13: =MIN('Users Power Panel'!$C$24, 'PASTE_Power Data'!F13) -> 600 | G13: =MIN('Users Power Panel'!$C$25, 'PASTE_Power Data'!G13) -> 600 | H13: =MIN('Users Power Panel'!$C$26, 'PASTE_Power Data'!H13) -> 600 | I13: =MIN('Users Power Panel'!$C$27, 'PASTE_Power Data'!I13) -> 600 | J13: =MIN('Users Power Panel'!$C$28, 'PASTE_Power Data'!J13) -> 600 | K13: =MIN('Users Power Panel'!$C$29, 'PASTE_Power Data'!K13) -> 600 | L13: =MIN('Users Power Panel'!$C$30, 'PASTE_Power Data'!L13) -> 600 | M13: =(SUM(C13:L13)/'Users Power Panel'!$C$15)*100 -> 100 | Q13: 0.125 | R13: ='Users Power Panel'!$C$21 -> 600 | S13: ='Users Power Panel'!$C$22 -> 600 | T13: ='Users Power Panel'!$C$23 -> 600 | U13: ='Users Power Panel'!$C$24 -> 600 | V13: ='Users Power Panel'!$C$25 -> 600 | W13: ='Users Power Panel'!$C$26 -> 600 | X13: ='Users Power Panel'!$C$27 -> 600 | Y13: ='Users Power Panel'!$C$28 -> 600 | Z13: ='Users Power Panel'!$C$29 -> 600 | AA13: ='Users Power Panel'!$C$30 -> 600
... B25: 0.25 | C25: =MIN('Users Power Panel'!$C$21, 'PASTE_Power Data'!C25) -> 600 | D25: =MIN('Users Power Panel'!$C$22, 'PASTE_Power Data'!D25) -> 600 | E25: =MIN('Users Power Panel'!$C$23, 'PASTE_Power Data'!E25) -> 600 | F25: =MIN('Users Power Panel'!$C$24, 'PASTE_Power Data'!F25) -> 600 | G25: =MIN('Users Power Panel'!$C$25, 'PASTE_Power Data'!G25) -> 600 | H25: =MIN('Users Power Panel'!$C$26, 'PASTE_Power Data'!H25) -> 600 | I25: =MIN('Users Power Panel'!$C$27, 'PASTE_Power Data'!I25) -> 600 | J25: =MIN('Users Power Panel'!$C$28, 'PASTE_Power Data'!J25) -> 600 | K25: =MIN('Users Power Panel'!$C$29, 'PASTE_Power Data'!K25) -> 600 | L25: =MIN('Users Power Panel'!$C$30, 'PASTE_Power Data'!L25) -> 600 | M25: =(SUM(C25:L25)/'Users Power Panel'!$C$15)*100 -> 100 | Q25: 0.25 | R25: ='Users Power Panel'!$C$21 -> 600 | S25: ='Users Power Panel'!$C$22 -> 600 | T25: ='Users Power Panel'!$C$23 -> 600 | U25: ='Users Power Panel'!$C$24 -> 600 | V25: ='Users Power Panel'!$C$25 -> 600 | W25: ='Users Power Panel'!$C$26 -> 600 | X25: ='Users Power Panel'!$C$27 -> 600 | Y25: ='Users Power Panel'!$C$28 -> 600 | Z25: ='Users Power Panel'!$C$29 -> 600 | AA25: ='Users Power Panel'!$C$30 -> 600
B26: 0.26041667 | C26: =MIN('Users Power Panel'!$H$21, 'PASTE_Power Data'!C26) -> 600 | D26: =MIN('Users Power Panel'!$H$22, 'PASTE_Power Data'!D26) -> 600 | E26: =MIN('Users Power Panel'!$H$23, 'PASTE_Power Data'!E26) -> 600 | F26: =MIN('Users Power Panel'!$H$24, 'PASTE_Power Data'!F26) -> 600 | G26: =MIN('Users Power Panel'!$H$25, 'PASTE_Power Data'!G26) -> 600 | H26: =MIN('Users Power Panel'!$H$26, 'PASTE_Power Data'!H26) -> 600 | I26: =MIN('Users Power Panel'!$H$27, 'PASTE_Power Data'!I26) -> 600 | J26: =MIN('Users Power Panel'!$H$28, 'PASTE_Power Data'!J26) -> 600 | K26: =MIN('Users Power Panel'!$H$29, 'PASTE_Power Data'!K26) -> 600 | L26: =MIN('Users Power Panel'!$H$30, 'PASTE_Power Data'!L26) -> 600 | M26: =(SUM(C26:L26)/'Users Power Panel'!$C$15)*100 -> 100 | Q26: 0.26041667 | R26: ='Users Power Panel'!$H$21 -> 600 | S26: ='Users Power Panel'!$H$22 -> 600 | T26: ='Users Power Panel'!$H$23 -> 600 | U26: ='Users Power Panel'!$H$24 -> 600 | V26: ='Users Power Panel'!$H$25 -> 600 | W26: ='Users Power Panel'!$H$26 -> 600 | X26: ='Users Power Panel'!$H$27 -> 600 | Y26: ='Users Power Panel'!$H$28 -> 600 | Z26: ='Users Power Panel'!$H$29 -> 600 | AA26: ='Users Power Panel'!$H$30 -> 600
B27: 0.27083333 | C27: =MIN('Users Power Panel'!$H$21, 'PASTE_Power Data'!C27) -> 600 | D27: =MIN('Users Power Panel'!$H$22, 'PASTE_Power Data'!D27) -> 600 | E27: =MIN('Users Power Panel'!$H$23, 'PASTE_Power Data'!E27) -> 600 | F27: =MIN('Users Power Panel'!$H$24, 'PASTE_Power Data'!F27) -> 600 | G27: =MIN('Users Power Panel'!$H$25, 'PASTE_Power Data'!G27) -> 600 | H27: =MIN('Users Power Panel'!$H$26, 'PASTE_Power Data'!H27) -> 600 | I27: =MIN('Users Power Panel'!$H$27, 'PASTE_Power Data'!I27) -> 600 | J27: =MIN('Users Power Panel'!$H$28, 'PASTE_Power Data'!J27) -> 600 | K27: =MIN('Users Power Panel'!$H$29, 'PASTE_Power Data'!K27) -> 600 | L27: =MIN('Users Power Panel'!$H$30, 'PASTE_Power Data'!L27) -> 600 | M27: =(SUM(C27:L27)/'Users Power Panel'!$C$15)*100 -> 100 | Q27: 0.27083333 | R27: ='Users Power Panel'!$H$21 -> 600 | S27: ='Users Power Panel'!$H$22 -> 600 | T27: ='Users Power Panel'!$H$23 -> 600 | U27: ='Users Power Panel'!$H$24 -> 600 | V27: ='Users Power Panel'!$H$25 -> 600 | W27: ='Users Power Panel'!$H$26 -> 600 | X27: ='Users Power Panel'!$H$27 -> 600 | Y27: ='Users Power Panel'!$H$28 -> 600 | Z27: ='Users Power Panel'!$H$29 -> 600 | AA27: ='Users Power Panel'!$H$30 -> 600
B28: 0.28125 | C28: =MIN('Users Power Panel'!$H$21, 'PASTE_Power Data'!C28) -> 600 | D28: =MIN('Users Power Panel'!$H$22, 'PASTE_Power Data'!D28) -> 600 | E28: =MIN('Users Power Panel'!$H$23, 'PASTE_Power Data'!E28) -> 600 | F28: =MIN('Users Power Panel'!$H$24, 'PASTE_Power Data'!F28) -> 600 | G28: =MIN('Users Power Panel'!$H$25, 'PASTE_Power Data'!G28) -> 600 | H28: =MIN('Users Power Panel'!$H$26, 'PASTE_Power Data'!H28) -> 600 | I28: =MIN('Users Power Panel'!$H$27, 'PASTE_Power Data'!I28) -> 600 | J28: =MIN('Users Power Panel'!$H$28, 'PASTE_Power Data'!J28) -> 600 | K28: =MIN('Users Power Panel'!$H$29, 'PASTE_Power Data'!K28) -> 600 | L28: =MIN('Users Power Panel'!$H$30, 'PASTE_Power Data'!L28) -> 600 | M28: =(SUM(C28:L28)/'Users Power Panel'!$C$15)*100 -> 100 | Q28: 0.28125 | R28: ='Users Power Panel'!$H$21 -> 600 | S28: ='Users Power Panel'!$H$22 -> 600 | T28: ='Users Power Panel'!$H$23 -> 600 | U28: ='Users Power Panel'!$H$24 -> 600 | V28: ='Users Power Panel'!$H$25 -> 600 | W28: ='Users Power Panel'!$H$26 -> 600 | X28: ='Users Power Panel'!$H$27 -> 600 | Y28: ='Users Power Panel'!$H$28 -> 600 | Z28: ='Users Power Panel'!$H$29 -> 600 | AA28: ='Users Power Panel'!$H$30 -> 600
B29: 0.29166667 | C29: =MIN('Users Power Panel'!$H$21, 'PASTE_Power Data'!C29) -> 600 | D29: =MIN('Users Power Panel'!$H$22, 'PASTE_Power Data'!D29) -> 600 | E29: =MIN('Users Power Panel'!$H$23, 'PASTE_Power Data'!E29) -> 600 | F29: =MIN('Users Power Panel'!$H$24, 'PASTE_Power Data'!F29) -> 600 | G29: =MIN('Users Power Panel'!$H$25, 'PASTE_Power Data'!G29) -> 600 | H29: =MIN('Users Power Panel'!$H$26, 'PASTE_Power Data'!H29) -> 600 | I29: =MIN('Users Power Panel'!$H$27, 'PASTE_Power Data'!I29) -> 600 | J29: =MIN('Users Power Panel'!$H$28, 'PASTE_Power Data'!J29) -> 600 | K29: =MIN('Users Power Panel'!$H$29, 'PASTE_Power Data'!K29) -> 600 | L29: =MIN('Users Power Panel'!$H$30, 'PASTE_Power Data'!L29) -> 600 | M29: =(SUM(C29:L29)/'Users Power Panel'!$C$15)*100 -> 100 | Q29: 0.29166667 | R29: ='Users Power Panel'!$H$21 -> 600 | S29: ='Users Power Panel'!$H$22 -> 600 | T29: ='Users Power Panel'!$H$23 -> 600 | U29: ='Users Power Panel'!$H$24 -> 600 | V29: ='Users Power Panel'!$H$25 -> 600 | W29: ='Users Power Panel'!$H$26 -> 600 | X29: ='Users Power Panel'!$H$27 -> 600 | Y29: ='Users Power Panel'!$H$28 -> 600 | Z29: ='Users Power Panel'!$H$29 -> 600 | AA29: ='Users Power Panel'!$H$30 -> 600
B30: 0.30208333 | C30: =MIN('Users Power Panel'!$H$21, 'PASTE_Power Data'!C30) -> 600 | D30: =MIN('Users Power Panel'!$H$22, 'PASTE_Power Data'!D30) -> 600 | E30: =MIN('Users Power Panel'!$H$23, 'PASTE_Power Data'!E30) -> 600 | F30: =MIN('Users Power Panel'!$H$24, 'PASTE_Power Data'!F30) -> 600 | G30: =MIN('Users Power Panel'!$H$25, 'PASTE_Power Data'!G30) -> 600 | H30: =MIN('Users Power Panel'!$H$26, 'PASTE_Power Data'!H30) -> 600 | I30: =MIN('Users Power Panel'!$H$27, 'PASTE_Power Data'!I30) -> 600 | J30: =MIN('Users Power Panel'!$H$28, 'PASTE_Power Data'!J30) -> 600 | K30: =MIN('Users Power Panel'!$H$29, 'PASTE_Power Data'!K30) -> 600 | L30: =MIN('Users Power Panel'!$H$30, 'PASTE_Power Data'!L30) -> 600 | M30: =(SUM(C30:L30)/'Users Power Panel'!$C$15)*100 -> 100 | Q30: 0.30208333 | R30: ='Users Power Panel'!$H$21 -> 600 | S30: ='Users Power Panel'!$H$22 -> 600 | T30: ='Users Power Panel'!$H$23 -> 600 | U30: ='Users Power Panel'!$H$24 -> 600 | V30: ='Users Power Panel'!$H$25 -> 600 | W30: ='Users Power Panel'!$H$26 -> 600 | X30: ='Users Power Panel'!$H$27 -> 600 | Y30: ='Users Power Panel'!$H$28 -> 600 | Z30: ='Users Power Panel'!$H$29 -> 600 | AA30: ='Users Power Panel'!$H$30 -> 600
B31: 0.3125 | C31: =MIN('Users Power Panel'!$H$21, 'PASTE_Power Data'!C31) -> 600 | D31: =MIN('Users Power Panel'!$H$22, 'PASTE_Power Data'!D31) -> 600 | E31: =MIN('Users Power Panel'!$H$23, 'PASTE_Power Data'!E31) -> 600 | F31: =MIN('Users Power Panel'!$H$24, 'PASTE_Power Data'!F31) -> 600 | G31: =MIN('Users Power Panel'!$H$25, 'PASTE_Power Data'!G31) -> 600 | H31: =MIN('Users Power Panel'!$H$26, 'PASTE_Power Data'!H31) -> 600 | I31: =MIN('Users Power Panel'!$H$27, 'PASTE_Power Data'!I31) -> 600 | J31: =MIN('Users Power Panel'!$H$28, 'PASTE_Power Data'!J31) -> 600 | K31: =MIN('Users Power Panel'!$H$29, 'PASTE_Power Data'!K31) -> 600 | L31: =MIN('Users Power Panel'!$H$30, 'PASTE_Power Data'!L31) -> 600 | M31: =(SUM(C31:L31)/'Users Power Panel'!$C$15)*100 -> 100 | Q31: 0.3125 | R31: ='Users Power Panel'!$H$21 -> 600 | S31: ='Users Power Panel'!$H$22 -> 600 | T31: ='Users Power Panel'!$H$23 -> 600 | U31: ='Users Power Panel'!$H$24 -> 600 | V31: ='Users Power Panel'!$H$25 -> 600 | W31: ='Users Power Panel'!$H$26 -> 600 | X31: ='Users Power Panel'!$H$27 -> 600 | Y31: ='Users Power Panel'!$H$28 -> 600 | Z31: ='Users Power Panel'!$H$29 -> 600 | AA31: ='Users Power Panel'!$H$30 -> 600
B32: 0.32291667 | C32: =MIN('Users Power Panel'!$H$21, 'PASTE_Power Data'!C32) -> 600 | D32: =MIN('Users Power Panel'!$H$22, 'PASTE_Power Data'!D32) -> 600 | E32: =MIN('Users Power Panel'!$H$23, 'PASTE_Power Data'!E32) -> 600 | F32: =MIN('Users Power Panel'!$H$24, 'PASTE_Power Data'!F32) -> 600 | G32: =MIN('Users Power Panel'!$H$25, 'PASTE_Power Data'!G32) -> 600 | H32: =MIN('Users Power Panel'!$H$26, 'PASTE_Power Data'!H32) -> 600 | I32: =MIN('Users Power Panel'!$H$27, 'PASTE_Power Data'!I32) -> 600 | J32: =MIN('Users Power Panel'!$H$28, 'PASTE_Power Data'!J32) -> 600 | K32: =MIN('Users Power Panel'!$H$29, 'PASTE_Power Data'!K32) -> 600 | L32: =MIN('Users Power Panel'!$H$30, 'PASTE_Power Data'!L32) -> 600 | M32: =(SUM(C32:L32)/'Users Power Panel'!$C$15)*100 -> 100 | Q32: 0.32291667 | R32: ='Users Power Panel'!$H$21 -> 600 | S32: ='Users Power Panel'!$H$22 -> 600 | T32: ='Users Power Panel'!$H$23 -> 600 | U32: ='Users Power Panel'!$H$24 -> 600 | V32: ='Users Power Panel'!$H$25 -> 600 | W32: ='Users Power Panel'!$H$26 -> 600 | X32: ='Users Power Panel'!$H$27 -> 600 | Y32: ='Users Power Panel'!$H$28 -> 600 | Z32: ='Users Power Panel'!$H$29 -> 600 | AA32: ='Users Power Panel'!$H$30 -> 600
B33: 0.33333333 | C33: =MIN('Users Power Panel'!$H$21, 'PASTE_Power Data'!C33) -> 600 | D33: =MIN('Users Power Panel'!$H$22, 'PASTE_Power Data'!D33) -> 600 | E33: =MIN('Users Power Panel'!$H$23, 'PASTE_Power Data'!E33) -> 600 | F33: =MIN('Users Power Panel'!$H$24, 'PASTE_Power Data'!F33) -> 600 | G33: =MIN('Users Power Panel'!$H$25, 'PASTE_Power Data'!G33) -> 600 | H33: =MIN('Users Power Panel'!$H$26, 'PASTE_Power Data'!H33) -> 600 | I33: =MIN('Users Power Panel'!$H$27, 'PASTE_Power Data'!I33) -> 600 | J33: =MIN('Users Power Panel'!$H$28, 'PASTE_Power Data'!J33) -> 600 | K33: =MIN('Users Power Panel'!$H$29, 'PASTE_Power Data'!K33) -> 600 | L33: =MIN('Users Power Panel'!$H$30, 'PASTE_Power Data'!L33) -> 600 | M33: =(SUM(C33:L33)/'Users Power Panel'!$C$15)*100 -> 100 | Q33: 0.33333333 | R33: ='Users Power Panel'!$H$21 -> 600 | S33: ='Users Power Panel'!$H$22 -> 600 | T33: ='Users Power Panel'!$H$23 -> 600 | U33: ='Users Power Panel'!$H$24 -> 600 | V33: ='Users Power Panel'!$H$25 -> 600 | W33: ='Users Power Panel'!$H$26 -> 600 | X33: ='Users Power Panel'!$H$27 -> 600 | Y33: ='Users Power Panel'!$H$28 -> 600 | Z33: ='Users Power Panel'!$H$29 -> 600 | AA33: ='Users Power Panel'!$H$30 -> 600
B34: 0.34375 | C34: =MIN('Users Power Panel'!$H$21, 'PASTE_Power Data'!C34) -> 600 | D34: =MIN('Users Power Panel'!$H$22, 'PASTE_Power Data'!D34) -> 600 | E34: =MIN('Users Power Panel'!$H$23, 'PASTE_Power Data'!E34) -> 600 | F34: =MIN('Users Power Panel'!$H$24, 'PASTE_Power Data'!F34) -> 600 | G34: =MIN('Users Power Panel'!$H$25, 'PASTE_Power Data'!G34) -> 600 | H34: =MIN('Users Power Panel'!$H$26, 'PASTE_Power Data'!H34) -> 600 | I34: =MIN('Users Power Panel'!$H$27, 'PASTE_Power Data'!I34) -> 600 | J34: =MIN('Users Power Panel'!$H$28, 'PASTE_Power Data'!J34) -> 600 | K34: =MIN('Users Power Panel'!$H$29, 'PASTE_Power Data'!K34) -> 600 | L34: =MIN('Users Power Panel'!$H$30, 'PASTE_Power Data'!L34) -> 600 | M34: =(SUM(C34:L34)/'Users Power Panel'!$C$15)*100 -> 100 | Q34: 0.34375 | R34: ='Users Power Panel'!$H$21 -> 600 | S34: ='Users Power Panel'!$H$22 -> 600 | T34: ='Users Power Panel'!$H$23 -> 600 | U34: ='Users Power Panel'!$H$24 -> 600 | V34: ='Users Power Panel'!$H$25 -> 600 | W34: ='Users Power Panel'!$H$26 -> 600 | X34: ='Users Power Panel'!$H$27 -> 600 | Y34: ='Users Power Panel'!$H$28 -> 600 | Z34: ='Users Power Panel'!$H$29 -> 600 | AA34: ='Users Power Panel'!$H$30 -> 600
B35: 0.35416667 | C35: =MIN('Users Power Panel'!$H$21, 'PASTE_Power Data'!C35) -> 600 | D35: =MIN('Users Power Panel'!$H$22, 'PASTE_Power Data'!D35) -> 600 | E35: =MIN('Users Power Panel'!$H$23, 'PASTE_Power Data'!E35) -> 600 | F35: =MIN('Users Power Panel'!$H$24, 'PASTE_Power Data'!F35) -> 600 | G35: =MIN('Users Power Panel'!$H$25, 'PASTE_Power Data'!G35) -> 600 | H35: =MIN('Users Power Panel'!$H$26, 'PASTE_Power Data'!H35) -> 600 | I35: =MIN('Users Power Panel'!$H$27, 'PASTE_Power Data'!I35) -> 600 | J35: =MIN('Users Power Panel'!$H$28, 'PASTE_Power Data'!J35) -> 600 | K35: =MIN('Users Power Panel'!$H$29, 'PASTE_Power Data'!K35) -> 600 | L35: =MIN('Users Power Panel'!$H$30, 'PASTE_Power Data'!L35) -> 600 | M35: =(SUM(C35:L35)/'Users Power Panel'!$C$15)*100 -> 100 | Q35: 0.35416667 | R35: ='Users Power Panel'!$H$21 -> 600 | S35: ='Users Power Panel'!$H$22 -> 600 | T35: ='Users Power Panel'!$H$23 -> 600 | U35: ='Users Power Panel'!$H$24 -> 600 | V35: ='Users Power Panel'!$H$25 -> 600 | W35: ='Users Power Panel'!$H$26 -> 600 | X35: ='Users Power Panel'!$H$27 -> 600 | Y35: ='Users Power Panel'!$H$28 -> 600 | Z35: ='Users Power Panel'!$H$29 -> 600 | AA35: ='Users Power Panel'!$H$30 -> 600
B36: 0.36458333 | C36: =MIN('Users Power Panel'!$H$21, 'PASTE_Power Data'!C36) -> 600 | D36: =MIN('Users Power Panel'!$H$22, 'PASTE_Power Data'!D36) -> 600 | E36: =MIN('Users Power Panel'!$H$23, 'PASTE_Power Data'!E36) -> 600 | F36: =MIN('Users Power Panel'!$H$24, 'PASTE_Power Data'!F36) -> 600 | G36: =MIN('Users Power Panel'!$H$25, 'PASTE_Power Data'!G36) -> 600 | H36: =MIN('Users Power Panel'!$H$26, 'PASTE_Power Data'!H36) -> 600 | I36: =MIN('Users Power Panel'!$H$27, 'PASTE_Power Data'!I36) -> 600 | J36: =MIN('Users Power Panel'!$H$28, 'PASTE_Power Data'!J36) -> 600 | K36: =MIN('Users Power Panel'!$H$29, 'PASTE_Power Data'!K36) -> 600 | L36: =MIN('Users Power Panel'!$H$30, 'PASTE_Power Data'!L36) -> 600 | M36: =(SUM(C36:L36)/'Users Power Panel'!$C$15)*100 -> 100 | Q36: 0.36458333 | R36: ='Users Power Panel'!$H$21 -> 600 | S36: ='Users Power Panel'!$H$22 -> 600 | T36: ='Users Power Panel'!$H$23 -> 600 | U36: ='Users Power Panel'!$H$24 -> 600 | V36: ='Users Power Panel'!$H$25 -> 600 | W36: ='Users Power Panel'!$H$26 -> 600 | X36: ='Users Power Panel'!$H$27 -> 600 | Y36: ='Users Power Panel'!$H$28 -> 600 | Z36: ='Users Power Panel'!$H$29 -> 600 | AA36: ='Users Power Panel'!$H$30 -> 600
B37: 0.375 | C37: =MIN('Users Power Panel'!$H$21, 'PASTE_Power Data'!C37) -> 600 | D37: =MIN('Users Power Panel'!$H$22, 'PASTE_Power Data'!D37) -> 600 | E37: =MIN('Users Power Panel'!$H$23, 'PASTE_Power Data'!E37) -> 600 | F37: =MIN('Users Power Panel'!$H$24, 'PASTE_Power Data'!F37) -> 600 | G37: =MIN('Users Power Panel'!$H$25, 'PASTE_Power Data'!G37) -> 600 | H37: =MIN('Users Power Panel'!$H$26, 'PASTE_Power Data'!H37) -> 600 | I37: =MIN('Users Power Panel'!$H$27, 'PASTE_Power Data'!I37) -> 600 | J37: =MIN('Users Power Panel'!$H$28, 'PASTE_Power Data'!J37) -> 600 | K37: =MIN('Users Power Panel'!$H$29, 'PASTE_Power Data'!K37) -> 600 | L37: =MIN('Users Power Panel'!$H$30, 'PASTE_Power Data'!L37) -> 600 | M37: =(SUM(C37:L37)/'Users Power Panel'!$C$15)*100 -> 100 | Q37: 0.375 | R37: ='Users Power Panel'!$H$21 -> 600 | S37: ='Users Power Panel'!$H$22 -> 600 | T37: ='Users Power Panel'!$H$23 -> 600 | U37: ='Users Power Panel'!$H$24 -> 600 | V37: ='Users Power Panel'!$H$25 -> 600 | W37: ='Users Power Panel'!$H$26 -> 600 | X37: ='Users Power Panel'!$H$27 -> 600 | Y37: ='Users Power Panel'!$H$28 -> 600 | Z37: ='Users Power Panel'!$H$29 -> 600 | AA37: ='Users Power Panel'!$H$30 -> 600
... B49: 0.5 | C49: =MIN('Users Power Panel'!$H$21, 'PASTE_Power Data'!C49) -> 600 | D49: =MIN('Users Power Panel'!$H$22, 'PASTE_Power Data'!D49) -> 600 | E49: =MIN('Users Power Panel'!$H$23, 'PASTE_Power Data'!E49) -> 600 | F49: =MIN('Users Power Panel'!$H$24, 'PASTE_Power Data'!F49) -> 600 | G49: =MIN('Users Power Panel'!$H$25, 'PASTE_Power Data'!G49) -> 600 | H49: =MIN('Users Power Panel'!$H$26, 'PASTE_Power Data'!H49) -> 600 | I49: =MIN('Users Power Panel'!$H$27, 'PASTE_Power Data'!I49) -> 600 | J49: =MIN('Users Power Panel'!$H$28, 'PASTE_Power Data'!J49) -> 600 | K49: =MIN('Users Power Panel'!$H$29, 'PASTE_Power Data'!K49) -> 600 | L49: =MIN('Users Power Panel'!$H$30, 'PASTE_Power Data'!L49) -> 600 | M49: =(SUM(C49:L49)/'Users Power Panel'!$C$15)*100 -> 100 | Q49: 0.5 | R49: ='Users Power Panel'!$H$21 -> 600 | S49: ='Users Power Panel'!$H$22 -> 600 | T49: ='Users Power Panel'!$H$23 -> 600 | U49: ='Users Power Panel'!$H$24 -> 600 | V49: ='Users Power Panel'!$H$25 -> 600 | W49: ='Users Power Panel'!$H$26 -> 600 | X49: ='Users Power Panel'!$H$27 -> 600 | Y49: ='Users Power Panel'!$H$28 -> 600 | Z49: ='Users Power Panel'!$H$29 -> 600 | AA49: ='Users Power Panel'!$H$30 -> 600
B50: 0.51041667 | C50: =MIN('Users Power Panel'!$C$35, 'PASTE_Power Data'!C50) -> 600 | D50: =MIN('Users Power Panel'!$C$36, 'PASTE_Power Data'!D50) -> 600 | E50: =MIN('Users Power Panel'!$C$37, 'PASTE_Power Data'!E50) -> 600 | F50: =MIN('Users Power Panel'!$C$38, 'PASTE_Power Data'!F50) -> 600 | G50: =MIN('Users Power Panel'!$C$39, 'PASTE_Power Data'!G50) -> 600 | H50: =MIN('Users Power Panel'!$C$40, 'PASTE_Power Data'!H50) -> 600 | I50: =MIN('Users Power Panel'!$C$41, 'PASTE_Power Data'!I50) -> 600 | J50: =MIN('Users Power Panel'!$C$42, 'PASTE_Power Data'!J50) -> 600 | K50: =MIN('Users Power Panel'!$C$43, 'PASTE_Power Data'!K50) -> 600 | L50: =MIN('Users Power Panel'!$C$44, 'PASTE_Power Data'!L50) -> 600 | M50: =(SUM(C50:L50)/'Users Power Panel'!$C$15)*100 -> 100 | Q50: 0.51041667 | R50: ='Users Power Panel'!$C$35 -> 600 | S50: ='Users Power Panel'!$C$36 -> 600 | T50: ='Users Power Panel'!$C$37 -> 600 | U50: ='Users Power Panel'!$C$38 -> 600 | V50: ='Users Power Panel'!$C$39 -> 600 | W50: ='Users Power Panel'!$C$40 -> 600 | X50: ='Users Power Panel'!$C$41 -> 600 | Y50: ='Users Power Panel'!$C$42 -> 600 | Z50: ='Users Power Panel'!$C$43 -> 600 | AA50: ='Users Power Panel'!$C$44 -> 600
B51: 0.52083333 | C51: =MIN('Users Power Panel'!$C$35, 'PASTE_Power Data'!C51) -> 600 | D51: =MIN('Users Power Panel'!$C$36, 'PASTE_Power Data'!D51) -> 600 | E51: =MIN('Users Power Panel'!$C$37, 'PASTE_Power Data'!E51) -> 600 | F51: =MIN('Users Power Panel'!$C$38, 'PASTE_Power Data'!F51) -> 600 | G51: =MIN('Users Power Panel'!$C$39, 'PASTE_Power Data'!G51) -> 600 | H51: =MIN('Users Power Panel'!$C$40, 'PASTE_Power Data'!H51) -> 600 | I51: =MIN('Users Power Panel'!$C$41, 'PASTE_Power Data'!I51) -> 600 | J51: =MIN('Users Power Panel'!$C$42, 'PASTE_Power Data'!J51) -> 600 | K51: =MIN('Users Power Panel'!$C$43, 'PASTE_Power Data'!K51) -> 600 | L51: =MIN('Users Power Panel'!$C$44, 'PASTE_Power Data'!L51) -> 600 | M51: =(SUM(C51:L51)/'Users Power Panel'!$C$15)*100 -> 100 | Q51: 0.52083333 | R51: ='Users Power Panel'!$C$35 -> 600 | S51: ='Users Power Panel'!$C$36 -> 600 | T51: ='Users Power Panel'!$C$37 -> 600 | U51: ='Users Power Panel'!$C$38 -> 600 | V51: ='Users Power Panel'!$C$39 -> 600 | W51: ='Users Power Panel'!$C$40 -> 600 | X51: ='Users Power Panel'!$C$41 -> 600 | Y51: ='Users Power Panel'!$C$42 -> 600 | Z51: ='Users Power Panel'!$C$43 -> 600 | AA51: ='Users Power Panel'!$C$44 -> 600
B52: 0.53125 | C52: =MIN('Users Power Panel'!$C$35, 'PASTE_Power Data'!C52) -> 600 | D52: =MIN('Users Power Panel'!$C$36, 'PASTE_Power Data'!D52) -> 600 | E52: =MIN('Users Power Panel'!$C$37, 'PASTE_Power Data'!E52) -> 600 | F52: =MIN('Users Power Panel'!$C$38, 'PASTE_Power Data'!F52) -> 600 | G52: =MIN('Users Power Panel'!$C$39, 'PASTE_Power Data'!G52) -> 600 | H52: =MIN('Users Power Panel'!$C$40, 'PASTE_Power Data'!H52) -> 600 | I52: =MIN('Users Power Panel'!$C$41, 'PASTE_Power Data'!I52) -> 600 | J52: =MIN('Users Power Panel'!$C$42, 'PASTE_Power Data'!J52) -> 600 | K52: =MIN('Users Power Panel'!$C$43, 'PASTE_Power Data'!K52) -> 600 | L52: =MIN('Users Power Panel'!$C$44, 'PASTE_Power Data'!L52) -> 600 | M52: =(SUM(C52:L52)/'Users Power Panel'!$C$15)*100 -> 100 | Q52: 0.53125 | R52: ='Users Power Panel'!$C$35 -> 600 | S52: ='Users Power Panel'!$C$36 -> 600 | T52: ='Users Power Panel'!$C$37 -> 600 | U52: ='Users Power Panel'!$C$38 -> 600 | V52: ='Users Power Panel'!$C$39 -> 600 | W52: ='Users Power Panel'!$C$40 -> 600 | X52: ='Users Power Panel'!$C$41 -> 600 | Y52: ='Users Power Panel'!$C$42 -> 600 | Z52: ='Users Power Panel'!$C$43 -> 600 | AA52: ='Users Power Panel'!$C$44 -> 600
B53: 0.54166667 | C53: =MIN('Users Power Panel'!$C$35, 'PASTE_Power Data'!C53) -> 600 | D53: =MIN('Users Power Panel'!$C$36, 'PASTE_Power Data'!D53) -> 600 | E53: =MIN('Users Power Panel'!$C$37, 'PASTE_Power Data'!E53) -> 600 | F53: =MIN('Users Power Panel'!$C$38, 'PASTE_Power Data'!F53) -> 600 | G53: =MIN('Users Power Panel'!$C$39, 'PASTE_Power Data'!G53) -> 600 | H53: =MIN('Users Power Panel'!$C$40, 'PASTE_Power Data'!H53) -> 600 | I53: =MIN('Users Power Panel'!$C$41, 'PASTE_Power Data'!I53) -> 600 | J53: =MIN('Users Power Panel'!$C$42, 'PASTE_Power Data'!J53) -> 600 | K53: =MIN('Users Power Panel'!$C$43, 'PASTE_Power Data'!K53) -> 600 | L53: =MIN('Users Power Panel'!$C$44, 'PASTE_Power Data'!L53) -> 600 | M53: =(SUM(C53:L53)/'Users Power Panel'!$C$15)*100 -> 100 | Q53: 0.54166667 | R53: ='Users Power Panel'!$C$35 -> 600 | S53: ='Users Power Panel'!$C$36 -> 600 | T53: ='Users Power Panel'!$C$37 -> 600 | U53: ='Users Power Panel'!$C$38 -> 600 | V53: ='Users Power Panel'!$C$39 -> 600 | W53: ='Users Power Panel'!$C$40 -> 600 | X53: ='Users Power Panel'!$C$41 -> 600 | Y53: ='Users Power Panel'!$C$42 -> 600 | Z53: ='Users Power Panel'!$C$43 -> 600 | AA53: ='Users Power Panel'!$C$44 -> 600
B54: 0.55208333 | C54: =MIN('Users Power Panel'!$C$35, 'PASTE_Power Data'!C54) -> 600 | D54: =MIN('Users Power Panel'!$C$36, 'PASTE_Power Data'!D54) -> 600 | E54: =MIN('Users Power Panel'!$C$37, 'PASTE_Power Data'!E54) -> 600 | F54: =MIN('Users Power Panel'!$C$38, 'PASTE_Power Data'!F54) -> 600 | G54: =MIN('Users Power Panel'!$C$39, 'PASTE_Power Data'!G54) -> 600 | H54: =MIN('Users Power Panel'!$C$40, 'PASTE_Power Data'!H54) -> 600 | I54: =MIN('Users Power Panel'!$C$41, 'PASTE_Power Data'!I54) -> 600 | J54: =MIN('Users Power Panel'!$C$42, 'PASTE_Power Data'!J54) -> 600 | K54: =MIN('Users Power Panel'!$C$43, 'PASTE_Power Data'!K54) -> 600 | L54: =MIN('Users Power Panel'!$C$44, 'PASTE_Power Data'!L54) -> 600 | M54: =(SUM(C54:L54)/'Users Power Panel'!$C$15)*100 -> 100 | Q54: 0.55208333 | R54: ='Users Power Panel'!$C$35 -> 600 | S54: ='Users Power Panel'!$C$36 -> 600 | T54: ='Users Power Panel'!$C$37 -> 600 | U54: ='Users Power Panel'!$C$38 -> 600 | V54: ='Users Power Panel'!$C$39 -> 600 | W54: ='Users Power Panel'!$C$40 -> 600 | X54: ='Users Power Panel'!$C$41 -> 600 | Y54: ='Users Power Panel'!$C$42 -> 600 | Z54: ='Users Power Panel'!$C$43 -> 600 | AA54: ='Users Power Panel'!$C$44 -> 600
B55: 0.5625 | C55: =MIN('Users Power Panel'!$C$35, 'PASTE_Power Data'!C55) -> 600 | D55: =MIN('Users Power Panel'!$C$36, 'PASTE_Power Data'!D55) -> 600 | E55: =MIN('Users Power Panel'!$C$37, 'PASTE_Power Data'!E55) -> 600 | F55: =MIN('Users Power Panel'!$C$38, 'PASTE_Power Data'!F55) -> 600 | G55: =MIN('Users Power Panel'!$C$39, 'PASTE_Power Data'!G55) -> 600 | H55: =MIN('Users Power Panel'!$C$40, 'PASTE_Power Data'!H55) -> 600 | I55: =MIN('Users Power Panel'!$C$41, 'PASTE_Power Data'!I55) -> 600 | J55: =MIN('Users Power Panel'!$C$42, 'PASTE_Power Data'!J55) -> 600 | K55: =MIN('Users Power Panel'!$C$43, 'PASTE_Power Data'!K55) -> 600 | L55: =MIN('Users Power Panel'!$C$44, 'PASTE_Power Data'!L55) -> 600 | M55: =(SUM(C55:L55)/'Users Power Panel'!$C$15)*100 -> 100 | Q55: 0.5625 | R55: ='Users Power Panel'!$C$35 -> 600 | S55: ='Users Power Panel'!$C$36 -> 600 | T55: ='Users Power Panel'!$C$37 -> 600 | U55: ='Users Power Panel'!$C$38 -> 600 | V55: ='Users Power Panel'!$C$39 -> 600 | W55: ='Users Power Panel'!$C$40 -> 600 | X55: ='Users Power Panel'!$C$41 -> 600 | Y55: ='Users Power Panel'!$C$42 -> 600 | Z55: ='Users Power Panel'!$C$43 -> 600 | AA55: ='Users Power Panel'!$C$44 -> 600
B56: 0.57291667 | C56: =MIN('Users Power Panel'!$C$35, 'PASTE_Power Data'!C56) -> 600 | D56: =MIN('Users Power Panel'!$C$36, 'PASTE_Power Data'!D56) -> 600 | E56: =MIN('Users Power Panel'!$C$37, 'PASTE_Power Data'!E56) -> 600 | F56: =MIN('Users Power Panel'!$C$38, 'PASTE_Power Data'!F56) -> 600 | G56: =MIN('Users Power Panel'!$C$39, 'PASTE_Power Data'!G56) -> 600 | H56: =MIN('Users Power Panel'!$C$40, 'PASTE_Power Data'!H56) -> 600 | I56: =MIN('Users Power Panel'!$C$41, 'PASTE_Power Data'!I56) -> 600 | J56: =MIN('Users Power Panel'!$C$42, 'PASTE_Power Data'!J56) -> 600 | K56: =MIN('Users Power Panel'!$C$43, 'PASTE_Power Data'!K56) -> 600 | L56: =MIN('Users Power Panel'!$C$44, 'PASTE_Power Data'!L56) -> 600 | M56: =(SUM(C56:L56)/'Users Power Panel'!$C$15)*100 -> 100 | Q56: 0.57291667 | R56: ='Users Power Panel'!$C$35 -> 600 | S56: ='Users Power Panel'!$C$36 -> 600 | T56: ='Users Power Panel'!$C$37 -> 600 | U56: ='Users Power Panel'!$C$38 -> 600 | V56: ='Users Power Panel'!$C$39 -> 600 | W56: ='Users Power Panel'!$C$40 -> 600 | X56: ='Users Power Panel'!$C$41 -> 600 | Y56: ='Users Power Panel'!$C$42 -> 600 | Z56: ='Users Power Panel'!$C$43 -> 600 | AA56: ='Users Power Panel'!$C$44 -> 600
B57: 0.58333333 | C57: =MIN('Users Power Panel'!$C$35, 'PASTE_Power Data'!C57) -> 600 | D57: =MIN('Users Power Panel'!$C$36, 'PASTE_Power Data'!D57) -> 600 | E57: =MIN('Users Power Panel'!$C$37, 'PASTE_Power Data'!E57) -> 600 | F57: =MIN('Users Power Panel'!$C$38, 'PASTE_Power Data'!F57) -> 600 | G57: =MIN('Users Power Panel'!$C$39, 'PASTE_Power Data'!G57) -> 600 | H57: =MIN('Users Power Panel'!$C$40, 'PASTE_Power Data'!H57) -> 600 | I57: =MIN('Users Power Panel'!$C$41, 'PASTE_Power Data'!I57) -> 600 | J57: =MIN('Users Power Panel'!$C$42, 'PASTE_Power Data'!J57) -> 600 | K57: =MIN('Users Power Panel'!$C$43, 'PASTE_Power Data'!K57) -> 600 | L57: =MIN('Users Power Panel'!$C$44, 'PASTE_Power Data'!L57) -> 600 | M57: =(SUM(C57:L57)/'Users Power Panel'!$C$15)*100 -> 100 | Q57: 0.58333333 | R57: ='Users Power Panel'!$C$35 -> 600 | S57: ='Users Power Panel'!$C$36 -> 600 | T57: ='Users Power Panel'!$C$37 -> 600 | U57: ='Users Power Panel'!$C$38 -> 600 | V57: ='Users Power Panel'!$C$39 -> 600 | W57: ='Users Power Panel'!$C$40 -> 600 | X57: ='Users Power Panel'!$C$41 -> 600 | Y57: ='Users Power Panel'!$C$42 -> 600 | Z57: ='Users Power Panel'!$C$43 -> 600 | AA57: ='Users Power Panel'!$C$44 -> 600
B58: 0.59375 | C58: =MIN('Users Power Panel'!$C$35, 'PASTE_Power Data'!C58) -> 600 | D58: =MIN('Users Power Panel'!$C$36, 'PASTE_Power Data'!D58) -> 600 | E58: =MIN('Users Power Panel'!$C$37, 'PASTE_Power Data'!E58) -> 600 | F58: =MIN('Users Power Panel'!$C$38, 'PASTE_Power Data'!F58) -> 600 | G58: =MIN('Users Power Panel'!$C$39, 'PASTE_Power Data'!G58) -> 600 | H58: =MIN('Users Power Panel'!$C$40, 'PASTE_Power Data'!H58) -> 600 | I58: =MIN('Users Power Panel'!$C$41, 'PASTE_Power Data'!I58) -> 600 | J58: =MIN('Users Power Panel'!$C$42, 'PASTE_Power Data'!J58) -> 600 | K58: =MIN('Users Power Panel'!$C$43, 'PASTE_Power Data'!K58) -> 600 | L58: =MIN('Users Power Panel'!$C$44, 'PASTE_Power Data'!L58) -> 600 | M58: =(SUM(C58:L58)/'Users Power Panel'!$C$15)*100 -> 100 | Q58: 0.59375 | R58: ='Users Power Panel'!$C$35 -> 600 | S58: ='Users Power Panel'!$C$36 -> 600 | T58: ='Users Power Panel'!$C$37 -> 600 | U58: ='Users Power Panel'!$C$38 -> 600 | V58: ='Users Power Panel'!$C$39 -> 600 | W58: ='Users Power Panel'!$C$40 -> 600 | X58: ='Users Power Panel'!$C$41 -> 600 | Y58: ='Users Power Panel'!$C$42 -> 600 | Z58: ='Users Power Panel'!$C$43 -> 600 | AA58: ='Users Power Panel'!$C$44 -> 600
B59: 0.60416667 | C59: =MIN('Users Power Panel'!$C$35, 'PASTE_Power Data'!C59) -> 600 | D59: =MIN('Users Power Panel'!$C$36, 'PASTE_Power Data'!D59) -> 600 | E59: =MIN('Users Power Panel'!$C$37, 'PASTE_Power Data'!E59) -> 600 | F59: =MIN('Users Power Panel'!$C$38, 'PASTE_Power Data'!F59) -> 600 | G59: =MIN('Users Power Panel'!$C$39, 'PASTE_Power Data'!G59) -> 600 | H59: =MIN('Users Power Panel'!$C$40, 'PASTE_Power Data'!H59) -> 600 | I59: =MIN('Users Power Panel'!$C$41, 'PASTE_Power Data'!I59) -> 600 | J59: =MIN('Users Power Panel'!$C$42, 'PASTE_Power Data'!J59) -> 600 | K59: =MIN('Users Power Panel'!$C$43, 'PASTE_Power Data'!K59) -> 600 | L59: =MIN('Users Power Panel'!$C$44, 'PASTE_Power Data'!L59) -> 600 | M59: =(SUM(C59:L59)/'Users Power Panel'!$C$15)*100 -> 100 | Q59: 0.60416667 | R59: ='Users Power Panel'!$C$35 -> 600 | S59: ='Users Power Panel'!$C$36 -> 600 | T59: ='Users Power Panel'!$C$37 -> 600 | U59: ='Users Power Panel'!$C$38 -> 600 | V59: ='Users Power Panel'!$C$39 -> 600 | W59: ='Users Power Panel'!$C$40 -> 600 | X59: ='Users Power Panel'!$C$41 -> 600 | Y59: ='Users Power Panel'!$C$42 -> 600 | Z59: ='Users Power Panel'!$C$43 -> 600 | AA59: ='Users Power Panel'!$C$44 -> 600
B60: 0.61458333 | C60: =MIN('Users Power Panel'!$C$35, 'PASTE_Power Data'!C60) -> 600 | D60: =MIN('Users Power Panel'!$C$36, 'PASTE_Power Data'!D60) -> 600 | E60: =MIN('Users Power Panel'!$C$37, 'PASTE_Power Data'!E60) -> 600 | F60: =MIN('Users Power Panel'!$C$38, 'PASTE_Power Data'!F60) -> 600 | G60: =MIN('Users Power Panel'!$C$39, 'PASTE_Power Data'!G60) -> 600 | H60: =MIN('Users Power Panel'!$C$40, 'PASTE_Power Data'!H60) -> 600 | I60: =MIN('Users Power Panel'!$C$41, 'PASTE_Power Data'!I60) -> 600 | J60: =MIN('Users Power Panel'!$C$42, 'PASTE_Power Data'!J60) -> 600 | K60: =MIN('Users Power Panel'!$C$43, 'PASTE_Power Data'!K60) -> 600 | L60: =MIN('Users Power Panel'!$C$44, 'PASTE_Power Data'!L60) -> 600 | M60: =(SUM(C60:L60)/'Users Power Panel'!$C$15)*100 -> 100 | Q60: 0.61458333 | R60: ='Users Power Panel'!$C$35 -> 600 | S60: ='Users Power Panel'!$C$36 -> 600 | T60: ='Users Power Panel'!$C$37 -> 600 | U60: ='Users Power Panel'!$C$38 -> 600 | V60: ='Users Power Panel'!$C$39 -> 600 | W60: ='Users Power Panel'!$C$40 -> 600 | X60: ='Users Power Panel'!$C$41 -> 600 | Y60: ='Users Power Panel'!$C$42 -> 600 | Z60: ='Users Power Panel'!$C$43 -> 600 | AA60: ='Users Power Panel'!$C$44 -> 600
